BEGIN:VCALENDAR
VERSION:2.0
PRODID:-//eventon.com NONSGML v1.0//EN
CALSCALE:GREGORIAN
METHOD:PUBLISH
BEGIN:VEVENT
UID:69e9f6057ca0f
DTSTAMP:20260423T103549Z
DTSTART:20240904T170000Z
DTEND:20240904T190000Z
LOCATION:O 48
SUMMARY:1. Kick Off
DESCRIPTION:\nhttps://infinity-mannheim.de/en/events/1-kick-off/
URL:https://infinity-mannheim.de/en/events/1-kick-off/
END:VEVENT
END:VCALENDAR